BEGIN:VCALENDAR
VERSION:2.0
PRODID:-//DHGS Deutsche Hochschule für Gesundheit und Sport - ECPv6.15.20//NONSGML v1.0//EN
CALSCALE:GREGORIAN
METHOD:PUBLISH
X-WR-CALNAME:DHGS Deutsche Hochschule für Gesundheit und Sport
X-ORIGINAL-URL:https://www.dhgs-hochschule.de
X-WR-CALDESC:Veranstaltungen für DHGS Deutsche Hochschule für Gesundheit und Sport
REFRESH-INTERVAL;VALUE=DURATION:PT1H
X-Robots-Tag:noindex
X-PUBLISHED-TTL:PT1H
BEGIN:VTIMEZONE
TZID:Europe/Berlin
BEGIN:DAYLIGHT
TZOFFSETFROM:+0100
TZOFFSETTO:+0200
TZNAME:CEST
DTSTART:20250330T010000
END:DAYLIGHT
BEGIN:STANDARD
TZOFFSETFROM:+0200
TZOFFSETTO:+0100
TZNAME:CET
DTSTART:20251026T010000
END:STANDARD
BEGIN:DAYLIGHT
TZOFFSETFROM:+0100
TZOFFSETTO:+0200
TZNAME:CEST
DTSTART:20260329T010000
END:DAYLIGHT
BEGIN:STANDARD
TZOFFSETFROM:+0200
TZOFFSETTO:+0100
TZNAME:CET
DTSTART:20261025T010000
END:STANDARD
BEGIN:DAYLIGHT
TZOFFSETFROM:+0100
TZOFFSETTO:+0200
TZNAME:CEST
DTSTART:20270328T010000
END:DAYLIGHT
BEGIN:STANDARD
TZOFFSETFROM:+0200
TZOFFSETTO:+0100
TZNAME:CET
DTSTART:20271031T010000
END:STANDARD
END:VTIMEZONE
BEGIN:VEVENT
DTSTART;TZID=Europe/Berlin:20260211T170000
DTEND;TZID=Europe/Berlin:20260211T180000
DTSTAMP:20260425T222203
CREATED:20250901T115001Z
LAST-MODIFIED:20251125T110701Z
UID:284426-1770829200-1770832800@www.dhgs-hochschule.de
SUMMARY:Webinar - Soziale Arbeit und Sport
DESCRIPTION:Sei bei unserem Webinar zum Bachelorstudium Soziale Arbeit und Sport (B.A.) und Soziale Arbeit (B.A) mit dabei!\nAm Mittwoch\, den 11. Februar 2026\, findet unser Webinar zum Bachelorstudiengang Soziale Arbeit und Sport (B.A.) und Soziale Arbeit (B.A) statt.\nHast du Interesse daran\, mehr über unsere Bachelorstudiengänge „Soziale Arbeit und Sport“ sowie „Soziale Arbeit“ zu erfahren? \nIn diesem Webinar teilt unser Experte\, Prof. Dr. Wolfgang Ruf\, umfassende Einblicke in die Inhalte\, Schwerpunkte und den Studienaufbau beider Studiengänge mit dir. Zusätzlich präsentieren wir potenzielle Berufsfelder\, um dir einen klaren Überblick über die beruflichen Möglichkeiten nach dem Studium zu verschaffen. \nFalls du Fragen zur Zulassung hast\, steht dir unser Leiter der Studierendenkanzlei\, Michael Fleddermann\, gerne zur Verfügung. Nutze diese Gelegenheit\, um alle notwendigen Informationen für deine Entscheidung und einen erfolgreichen Start in dein Bachelorstudium zu erhalten. \nTermin:Datum: Mittwoch\, 11.02.2026Uhrzeit: 17:00 – 18:00 Uhr \nPlattform:Unsere Webinare finden über Microsoft Teams statt. Du kannst entweder kostenlos über den Browser teilnehmen oder die App kostenfrei herunterladen. \nWir freuen uns darauf\, dich mit umfassenden Informationen zu unterstützen und stehen bereit\, um alle deine Fragen zu beantworten\, um dich bestmöglich auf deinem Weg an die DHGS zu unterstützen! \n– – – – Hier klicken\, um an der Besprechung teilzunehmen – – – –\n \n \n– – – – – – – –\n– – – – Bitte den Link zwischen den gestrichelten Linien einfügen – – – –\nhttps://teams.microsoft.com/l/meetup-join/19%3ameeting_Nzk1Mjg3ZWUtMWJjZS00NDFiLWI1ZDktZGQ2M2ZjMDc5Yzc1%40thread.v2/0?context=%7b%22Tid%22%3a%22240f487f-9038-4806-bfda-6a617ee5da14%22%2c%22Oid%22%3a%2240e4ac14-c8d0-4845-b408-8ffd53ad58e4%22%7d\n– – – – – – – –\n\nKostenlose Anmeldung\n\n\n  \n\n\n\n\n Anrede*\n– Bitte auswählen –FrauHerr\n \n Vorname*\n\n \nNachname*\n\n \nE-Mail*\n\n \nFür weitere Infos und telefonische Beratung\, geben Sie hier Ihre Telefonnummer an:\n\n \nIch stimme der Datenschutzerklärung zu.*\nDie Studienberatung darf mich über weitere Angebote informieren*\n \n*Pflichtfeld\n \n\n\n\n\n\n \nBitte beweise\, dass du kein Spambot bist und wähle das Symbol Tasse.\n    \n    \n        \n    \n \n\n ×
URL:https://www.dhgs-hochschule.de/veranstaltungen/webinar-soziale-arbeit-und-sport-11-november-2026-ab-17-uhr/
CATEGORIES:Soziale Arbeit,Soziale Arbeit und Sport,Webinar
END:VEVENT
END:VCALENDAR