BEGIN:VCALENDAR
VERSION:2.0
PRODID:-//DHGS Deutsche Hochschule für Gesundheit und Sport - ECPv6.15.20//NONSGML v1.0//EN
CALSCALE:GREGORIAN
METHOD:PUBLISH
X-ORIGINAL-URL:https://www.dhgs-hochschule.de
X-WR-CALDESC:Veranstaltungen für DHGS Deutsche Hochschule für Gesundheit und Sport
REFRESH-INTERVAL;VALUE=DURATION:PT1H
X-Robots-Tag:noindex
X-PUBLISHED-TTL:PT1H
BEGIN:VTIMEZONE
TZID:Europe/Berlin
BEGIN:DAYLIGHT
TZOFFSETFROM:+0100
TZOFFSETTO:+0200
TZNAME:CEST
DTSTART:20250330T010000
END:DAYLIGHT
BEGIN:STANDARD
TZOFFSETFROM:+0200
TZOFFSETTO:+0100
TZNAME:CET
DTSTART:20251026T010000
END:STANDARD
BEGIN:DAYLIGHT
TZOFFSETFROM:+0100
TZOFFSETTO:+0200
TZNAME:CEST
DTSTART:20260329T010000
END:DAYLIGHT
BEGIN:STANDARD
TZOFFSETFROM:+0200
TZOFFSETTO:+0100
TZNAME:CET
DTSTART:20261025T010000
END:STANDARD
BEGIN:DAYLIGHT
TZOFFSETFROM:+0100
TZOFFSETTO:+0200
TZNAME:CEST
DTSTART:20270328T010000
END:DAYLIGHT
BEGIN:STANDARD
TZOFFSETFROM:+0200
TZOFFSETTO:+0100
TZNAME:CET
DTSTART:20271031T010000
END:STANDARD
END:VTIMEZONE
BEGIN:VEVENT
DTSTART;TZID=Europe/Berlin:20260216T170000
DTEND;TZID=Europe/Berlin:20260216T180000
DTSTAMP:20260425T222358
CREATED:20250902T121133Z
LAST-MODIFIED:20251125T110719Z
UID:284630-1771261200-1771264800@www.dhgs-hochschule.de
SUMMARY:MasterKompass - unser Webinar zu deinem Masterstudium "Angewandte Sportwissenschaft" an der DHGS
DESCRIPTION:MasterKompass – unser Webinar zu deinem Masterstudium Angewandte Sportwissenschaft (M.A.) an der DHGS!\nAm Montag\, den 16. Februar 2026\, findet unser Master Webinar zu unserem Studiengang Angewandte Sportwissenschaft statt.\nDu möchtest mehr erfahren? \nIn diesem Seminar wird unser Experte\, Prof. Dr. Andreas Wittke\, umfassende Einblicke in die Inhalte\, Schwerpunkte und den Aufbau des Studiums geben. Zusätzlich werden mögliche Berufsfelder vorgestellt\, um dir einen umfassenden Überblick über die beruflichen Möglichkeiten nach dem Abschluss zu bieten. \nFür Fragen zur Zulassung steht unser Mitarbeiter der Studierendenkanzlei\, David Fischer zur Verfügung. Nutze diese Gelegenheit\, um alle notwendigen Informationen für deine Entscheidung und einen erfolgreichen Start in dein Masterstudium zu erhalten. \nTermin:\nDatum: Montag\, 16.02.2026\nUhrzeit: 17:00 – 18:00 Uhr \nPlattform:\nUnsere Webinare finden über Microsoft Teams statt. Du kannst entweder kostenlos über den Browser teilnehmen oder die App kostenfrei herunterladen. \nWir freuen uns darauf\, dich mit umfassenden Informationen zu unterstützen und stehen bereit\, um dich bestmöglich auf deinem Weg an die DHGS zu unterstützen! \n– – – – Bitte den Online-Link zwischen den gestrichelten Linien einfügen – – – –\n \n\n– – – – – – – –\n– – – – Bitte den Link zwischen den gestrichelten Linien einfügen – – – –\nhttps://teams.microsoft.com/l/meetup-join/19%3ameeting_YmUzZWVhN2UtNmY2MC00NmJjLWFmNWUtNWRlOWUzMGM3ZjNj%40thread.v2/0?context=%7b%22Tid%22%3a%22240f487f-9038-4806-bfda-6a617ee5da14%22%2c%22Oid%22%3a%2240e4ac14-c8d0-4845-b408-8ffd53ad58e4%22%7d\n– – – – – – – –\nKostenlose Anmeldung: \n\nAnmeldung\n\n\n  \n\n\n\n\n Anrede*\n– Bitte auswählen –FrauHerr\n \n Vorname*\n\n \nNachname*\n\n \nE-Mail*\n\n \nFür weitere Infos und telefonische Beratung\, geben Sie hier Ihre Telefonnummer an:\n\n \nIch stimme der Datenschutzerklärung zu.*\nDie Studienberatung darf mich über weitere Angebote informieren*\n \n*Pflichtfeld\n \n\n\n\n\n\n \nBitte beweise\, dass du kein Spambot bist und wähle das Symbol Flagge.\n    \n    \n        \n    \n \n\n ×
URL:https://www.dhgs-hochschule.de/veranstaltungen/master-webinar-sportwissenschaft-16-februar-2026-ab-17-uhr/
CATEGORIES:Master,Sportwissenschaft,Webinar
END:VEVENT
END:VCALENDAR