BEGIN:VCALENDAR
VERSION:2.0
PRODID:-//DHGS Deutsche Hochschule für Gesundheit und Sport - ECPv6.15.20//NONSGML v1.0//EN
CALSCALE:GREGORIAN
METHOD:PUBLISH
X-ORIGINAL-URL:https://www.dhgs-hochschule.de
X-WR-CALDESC:Veranstaltungen für DHGS Deutsche Hochschule für Gesundheit und Sport
REFRESH-INTERVAL;VALUE=DURATION:PT1H
X-Robots-Tag:noindex
X-PUBLISHED-TTL:PT1H
BEGIN:VTIMEZONE
TZID:Europe/Berlin
BEGIN:DAYLIGHT
TZOFFSETFROM:+0100
TZOFFSETTO:+0200
TZNAME:CEST
DTSTART:20250330T010000
END:DAYLIGHT
BEGIN:STANDARD
TZOFFSETFROM:+0200
TZOFFSETTO:+0100
TZNAME:CET
DTSTART:20251026T010000
END:STANDARD
BEGIN:DAYLIGHT
TZOFFSETFROM:+0100
TZOFFSETTO:+0200
TZNAME:CEST
DTSTART:20260329T010000
END:DAYLIGHT
BEGIN:STANDARD
TZOFFSETFROM:+0200
TZOFFSETTO:+0100
TZNAME:CET
DTSTART:20261025T010000
END:STANDARD
BEGIN:DAYLIGHT
TZOFFSETFROM:+0100
TZOFFSETTO:+0200
TZNAME:CEST
DTSTART:20270328T010000
END:DAYLIGHT
BEGIN:STANDARD
TZOFFSETFROM:+0200
TZOFFSETTO:+0100
TZNAME:CET
DTSTART:20271031T010000
END:STANDARD
END:VTIMEZONE
BEGIN:VEVENT
DTSTART;TZID=Europe/Berlin:20260225T170000
DTEND;TZID=Europe/Berlin:20260225T180000
DTSTAMP:20260425T205935
CREATED:20250829T115243Z
LAST-MODIFIED:20251125T110815Z
UID:284044-1772038800-1772042400@www.dhgs-hochschule.de
SUMMARY:Webinar - Physiotherapiestudium
DESCRIPTION:Sei dabei bei unserem Webinar zum Bachelorstudium Physiotherapie (B.Sc.) !\nAm Mittwoch\, den 25. Februar 2026\, findet unser Webinar zum Bachelorstudiengang Physiotherapie (B.Sc.) statt.\nBist du neugierig auf unseren Physiotherapie-Studiengang? \nIn unserem Webinar teilt Prof. Dr. rer. nat. Konstantin Beinert\, unser Experte\, umfassende Einblicke in die Inhalte\, Schwerpunkte und Struktur des Studiengangs mit dir. Zudem werfen wir einen Blick auf potenzielle Berufsfelder\, um dir eine klare Perspektive nach dem Studium zu vermitteln. \nFalls du Fragen zur Zulassung hast\, steht dir unsere engagierte Kollegin\, Iga Wendlandt\, der Studierendenkanzlei gerne zur Verfügung. Nutze die Gelegenheit\, um alle nötigen Informationen für deine Entscheidung und einen reibungslosen Start in dein Physiotherapie-Studium zu erhalten. \nTermin:\nDatum: Mittwoch\, 25.02.2026\nUhrzeit: 17:00 – 18:00 Uhr \nPlattform:\nUnsere Webinare finden über Microsoft Teams statt. Du kannst entweder kostenlos über den Browser teilnehmen oder die App kostenfrei herunterladen. \nWir freuen uns darauf\, dich mit fundierten Informationen zu versorgen und alle deine Fragen zu beantworten\, um dich bestmöglich auf deinem Weg an die DHGS zu unterstützen! \n– – – – Bitte den Online-Link zwischen den gestrichelten Linien einfügen – – – –\n \n\n– – – – – – – –\n– – – – Bitte den Link zwischen den gestrichelten Linien einfügen – – – –\nhttps://teams.microsoft.com/l/meetup-join/19%3ameeting_MGRhYWZhOGYtMmE1MS00NzU5LWExZDEtYjhjYWFkYTk4NDY4%40thread.v2/0?context=%7b%22Tid%22%3a%22240f487f-9038-4806-bfda-6a617ee5da14%22%2c%22Oid%22%3a%2240e4ac14-c8d0-4845-b408-8ffd53ad58e4%22%7d\n– – – – – – – –\n\nKostenlose Anmeldung\n\n\n  \n\n\n\n\n Anrede*\n– Bitte auswählen –FrauHerr\n \n Vorname*\n\n \nNachname*\n\n \nE-Mail*\n\n \nFür weitere Infos und telefonische Beratung\, geben Sie hier Ihre Telefonnummer an:\n\n \nIch stimme der Datenschutzerklärung zu.*\nDie Studienberatung darf mich über weitere Angebote informieren*\n \n*Pflichtfeld\n \n\n\n\n\n\n \nBitte beweise\, dass du kein Spambot bist und wähle das Symbol Stern.\n    \n    \n        \n    \n \n\n ×
URL:https://www.dhgs-hochschule.de/veranstaltungen/webinar-physiotherapiestudium-25-februar-2026-ab-17-uhr/
CATEGORIES:Bachelor,Physiotherapie,Webinar
END:VEVENT
BEGIN:VEVENT
DTSTART;TZID=Europe/Berlin:20260225T170000
DTEND;TZID=Europe/Berlin:20260225T183000
DTSTAMP:20260425T205935
CREATED:20250930T070431Z
LAST-MODIFIED:20260227T101404Z
UID:289373-1772038800-1772044200@www.dhgs-hochschule.de
SUMMARY:Webinar - Gesundheitsfachberufe Studiengänge
DESCRIPTION:Sei bei unserem Webinar zu unseren Studiengängen der Gesundheitsfachberufe dabei!\nAm Mittwoch\, den 25. Februar 2026\, findet unser Webinar zu den Studiengängen Medizinpädagogik (B.A. & M.A.) sowie Physician Assistance (B.Sc.) statt.\nHast du Interesse daran\, mehr über unsere Studiengänge im Fachbereich Gesundheit erfahren? \nNach Begrüßungsworten von Frau Prof. Dr. Nadine Steckling-Muschack werden dir unsere Experten\, Frau Prof. Dr. Sabine Fesel\, Herr Prof. Dr. Dr. med. Evangelos Sarantopoulos und Frau Prof. Dr. Sandy Kujumdshiev umfassende Einblicke in die Inhalte\, Schwerpunkte und den Aufbau des Studiums vermitteln. Zudem erfährst du\, wie du durch eine abgeschlossene Berufsausbildung deine Studiendauer verkürzen und Studiengebühren sparen kannst! \nFür Fragen zur Zulassung steht dir unsere engagierte Mitarbeiterin Iga Wendlandt zur Verfügung. Nutze diese Gelegenheit\, um alle notwendigen Informationen für deine Entscheidung und einen erfolgreichen Start in diese speziellen Studienschwerpunkte zu erhalten. \nTermin:\nDatum: Mittwoch\, 25.02.2026\nUhrzeit: 17:00 – 18:30 Uhr \nPlattform:\nUnsere Webinare finden über Microsoft Teams statt. Du kannst entweder kostenlos über den Browser teilnehmen oder die App kostenfrei herunterladen. \nWir freuen uns darauf\, dich mit fundierten Informationen zu versorgen und alle deine Fragen zu beantworten\, um dich bestmöglich auf deinem Weg an die DHGS zu unterstützen! \n– – – – Bitte den Online-Link zwischen den gestrichelten Linien einfügen – – – –\n \n\n– – – – – – – –\n– – – – Bitte den Link zwischen den gestrichelten Linien einfügen – – – –\nhttps://teams.microsoft.com/l/meetup-join/19%3ameeting_NjVkMjk2Y2MtZDNlMC00OWZhLWIwYzItODJjOTExZjA2ZGJm%40thread.v2/0?context=%7b%22Tid%22%3a%22240f487f-9038-4806-bfda-6a617ee5da14%22%2c%22Oid%22%3a%22a089b582-1423-4b0a-ac2c-52bb2399fda3%22%7d\n– – – – – – – –\nKostenlose Anmeldung: \n\nAnmeldung\n\n\n  \n\n\n\n\n Anrede*\n– Bitte auswählen –FrauHerr\n \n Vorname*\n\n \nNachname*\n\n \nE-Mail*\n\n \nFür weitere Infos und telefonische Beratung\, geben Sie hier Ihre Telefonnummer an:\n\n \nIch stimme der Datenschutzerklärung zu.*\nDie Studienberatung darf mich über weitere Angebote informieren*\n \n*Pflichtfeld\n \n\n\n\n\n\n \nBitte beweise\, dass du kein Spambot bist und wähle das Symbol Herz.\n    \n    \n        \n    \n \n\n ×
URL:https://www.dhgs-hochschule.de/veranstaltungen/webinar-gesundheitsfachberufe-studiengaenge-25-februar-2026-ab-17-uhr/
CATEGORIES:Medizinpädagogik,Physician Assistance
END:VEVENT
BEGIN:VEVENT
DTSTART;TZID=Europe/Berlin:20260225T180000
DTEND;TZID=Europe/Berlin:20260225T190000
DTSTAMP:20260425T205935
CREATED:20250829T093559Z
LAST-MODIFIED:20251125T110826Z
UID:283888-1772042400-1772046000@www.dhgs-hochschule.de
SUMMARY:Webinar - Studieren mit Unternehmenspartner
DESCRIPTION:Studieren mit Unternehmenspartner. Kooperatives Studium an der DHGS – sei bei unserem Webinar dabei!\nAm Mittwoch\, den 25. Februar 2026\, findet unser Webinar zu den kooperativen Studiengängen an der DHGS statt.\nDu interessierst dich für ein kooperatives Studium an der DHGS Deutsche Hochschule für Gesundheit und Sport? \nUnser Experte\, Elias Fleddermann\, bietet dir detaillierte Einblicke in den Ablauf und die verschiedenen Möglichkeiten eines kooperativen Studiums. Du erfährst die notwendigen Voraussetzungen\, die du für dieses Studienmodell erfüllen musst. Zusätzlich stellen wir dir unser innovatives semi-virtuelles Studienkonzept vor und unterstützen dich bei der Suche nach einem kooperativen Partner. \nDarüber hinaus möchten wir die zahlreichen Vorteile eines kooperativen Studiums aufzeigen und dir Empfehlungen zur wöchentlichen Arbeitszeit im Unternehmen sowie zur bestmöglichen Vereinbarkeit von Studium und Beruf geben. \nTermin:\nDatum: Mittwoch\, 25.02.2026\nUhrzeit: 18:00 – 19:00 Uhr \nPlattform:\nUnsere Webinare finden über Microsoft Teams statt. Du kannst entweder kostenlos über den Browser teilnehmen oder die App kostenfrei herunterladen. \nWir freuen uns darauf\, dich mit umfassenden Informationen zu unterstützen und stehen bereit\, um alle deine Fragen zu beantworten\, um dich bestmöglich auf deinem Weg an die DHGS zu unterstützen! \n– – – – Bitte den Online-Link zwischen den gestrichelten Linien einfügen – – – –\n \n\n– – – – – – – –\n– – – – Bitte den Link zwischen den gestrichelten Linien einfügen – – – –\nhttps://teams.microsoft.com/l/meetup-join/19%3ameeting_MzMwNWE3YzAtN2M0OS00OTFmLTk1OWYtMWU4YzY0NTM0ODgy%40thread.v2/0?context=%7b%22Tid%22%3a%22240f487f-9038-4806-bfda-6a617ee5da14%22%2c%22Oid%22%3a%226b081ace-58a3-43d9-9446-538345b93b52%22%7d\n\n– – – – – – – –\nKostenlose Anmeldung: \n\nAnmeldung\n\n\n  \n\n\n\n\n Anrede*\n– Bitte auswählen –FrauHerr\n \n Vorname*\n\n \nNachname*\n\n \nE-Mail*\n\n \nFür weitere Infos und telefonische Beratung\, geben Sie hier Ihre Telefonnummer an:\n\n \nIch stimme der Datenschutzerklärung zu.*\nDie Studienberatung darf mich über weitere Angebote informieren*\n \n*Pflichtfeld\n \n\n\n\n\n\n \nBitte beweise\, dass du kein Spambot bist und wähle das Symbol Auto.\n    \n    \n        \n    \n \n\n ×
URL:https://www.dhgs-hochschule.de/veranstaltungen/webinar-studieren-mit-unternehmenspartner-25-februar-2026-ab-1800-uhr/
CATEGORIES:Bachelor,Kooperatives Studium,Master,Studieren mit Unternehmenspartner,Veranstaltung,Webinar
END:VEVENT
END:VCALENDAR