BEGIN:VCALENDAR
VERSION:2.0
PRODID:-//DHGS Deutsche Hochschule für Gesundheit und Sport - ECPv6.15.20//NONSGML v1.0//EN
CALSCALE:GREGORIAN
METHOD:PUBLISH
X-WR-CALNAME:DHGS Deutsche Hochschule für Gesundheit und Sport
X-ORIGINAL-URL:https://www.dhgs-hochschule.de
X-WR-CALDESC:Veranstaltungen für DHGS Deutsche Hochschule für Gesundheit und Sport
REFRESH-INTERVAL;VALUE=DURATION:PT1H
X-Robots-Tag:noindex
X-PUBLISHED-TTL:PT1H
BEGIN:VTIMEZONE
TZID:Europe/Berlin
BEGIN:DAYLIGHT
TZOFFSETFROM:+0100
TZOFFSETTO:+0200
TZNAME:CEST
DTSTART:20250330T010000
END:DAYLIGHT
BEGIN:STANDARD
TZOFFSETFROM:+0200
TZOFFSETTO:+0100
TZNAME:CET
DTSTART:20251026T010000
END:STANDARD
BEGIN:DAYLIGHT
TZOFFSETFROM:+0100
TZOFFSETTO:+0200
TZNAME:CEST
DTSTART:20260329T010000
END:DAYLIGHT
BEGIN:STANDARD
TZOFFSETFROM:+0200
TZOFFSETTO:+0100
TZNAME:CET
DTSTART:20261025T010000
END:STANDARD
BEGIN:DAYLIGHT
TZOFFSETFROM:+0100
TZOFFSETTO:+0200
TZNAME:CEST
DTSTART:20270328T010000
END:DAYLIGHT
BEGIN:STANDARD
TZOFFSETFROM:+0200
TZOFFSETTO:+0100
TZNAME:CET
DTSTART:20271031T010000
END:STANDARD
END:VTIMEZONE
BEGIN:VEVENT
DTSTART;VALUE=DATE:20260226
DTEND;VALUE=DATE:20260227
DTSTAMP:20260425T205840
CREATED:20251020T101741Z
LAST-MODIFIED:20251125T110834Z
UID:291607-1772064000-1772150399@www.dhgs-hochschule.de
SUMMARY:Anerkennungsprüfung Gesundheitsstudiengänge
DESCRIPTION:Anerkennungsprüfung für die Studiengänge Medizinpädagogik (B.A.) und Physician Assistance (B.Sc.)\nAm Donnerstag\, den 26. Februar 2026\, findet unsere Anerkennungsprüfung statt.\nMöchtest Du ein Studium in einem unserer Gesundheitsstudiengänge? Dann kannst Du Dich zur kostenlosen und unverbindlichen Anerkennungsprüfung anmelden. Ein erfolgreiches Bestehen ist Voraussetzung für die Anrechnung Deiner Berufsausbildung auf ein verkürztes Studium an unserer Hochschule. \nWann?\nDonnerstag\, 26.02.2026 \nWo?\nAn Deinem bevorzugten Studienort Berlin\, Ismaning\, Unna oder Mannheim \nSolltest Du an diesem Tag keine Zeit haben\, können wir auch gerne einen persönlichen Termin vereinbaren. \nFür Fragen zur Zulassung und/oder zum Inhalt kannst Du Dich an unser Info-Center wenden. \n\nBitte melde Dich vorab zur Teilnahme an unserer Anerkennungsprüfung an\, damit wir Dir Informationen zum Ablauf der Prüfung geben können. Schreibe uns dazu einfach eine E-Mail oder rufe an (bitte Studiengang und Campus angeben): \n\nTelefon: +49 (0) 30 577 9737 800 \nE-Mail: info-center@dhgs-hochschule.de
URL:https://www.dhgs-hochschule.de/veranstaltungen/anerkennungspruefung-gesundheitsstudiengaenge-26-februar-2026/
LOCATION:Vorort
CATEGORIES:Anerkennungsprüfung,Berlin,Ismaning,Mannheim,Unna,Veranstaltung
ATTACH;FMTTYPE=image/jpeg:https://www.dhgs-hochschule.de/wp-content/uploads/2022/10/221026-DHGS-Veranstaltung-Seminar-Anerkennungspruefung-1920x1080-1.jpg
END:VEVENT
BEGIN:VEVENT
DTSTART;TZID=Europe/Berlin:20260226T160000
DTEND;TZID=Europe/Berlin:20260226T170000
DTSTAMP:20260425T205840
CREATED:20250901T123143Z
LAST-MODIFIED:20251125T110839Z
UID:284458-1772121600-1772125200@www.dhgs-hochschule.de
SUMMARY:Webinar - Training und Coaching im Fußball
DESCRIPTION:Sei bei unserem Webinar zu unserem Studiengang „Training und Coaching im Fußball (B.A.) dabei!\nAm Donnerstag\, den 26. Februar 2026\, findet unser Webinar zu unserem Studiengang Training und Coaching im Fußball (B.A.) ab 16:00 Uhr statt.\nHast du Interesse daran\, mehr über unseren Studiengang „Training und Coaching im Fußball“ (B.A.) zu erfahren? \nUnser Experte\, Prof. Dr. Christian Buschmann und die Kollegin\, Anja Pfluger\, vom Internationalen Fußball Institut\, werden dir umfassende Einblicke in die Inhalte\, Schwerpunkte und den Aufbau des Studiums vermitteln. Zusätzlich werden während der Veranstaltung potenzielle Berufsfelder aufgezeigt. \nBei Fragen zur Zulassung steht dir unser Leiter der Studierendenkanzlei\, Michael Fleddermann\, gerne zur Verfügung. Nutze diese Gelegenheit\, um alle notwendigen Informationen für deine Entscheidung und einen erfolgreichen Start in diesen speziellen Studienschwerpunkt zu erhalten. \nTermin:\nDatum: Donnerstag\, 26.02.2026\nUhrzeit: 16:00 – 17:00 Uhr \nPlattform:\nUnsere Webinare finden über Microsoft Teams statt. Du kannst entweder kostenlos über den Browser teilnehmen oder die App kostenfrei herunterladen. \nWir freuen uns darauf\, dich mit umfassenden Informationen zu unterstützen und stehen bereit\, um alle deine Fragen zu beantworten\, um dich bestmöglich auf deinem Weg an die DHGS zu unterstützen! \n– – – – Bitte den Online-Link zwischen den gestrichelten Linien einfügen – – – –\n \n\n– – – – – – – –\n– – – – Bitte den Link zwischen den gestrichelten Linien einfügen – – – –\nhttps://teams.microsoft.com/l/meetup-join/19%3ameeting_NzQ2NzZmZDEtNTVlOS00NWIzLWJjN2MtODcxYWE5ZGJmM2I0%40thread.v2/0?context=%7b%22Tid%22%3a%22240f487f-9038-4806-bfda-6a617ee5da14%22%2c%22Oid%22%3a%2240e4ac14-c8d0-4845-b408-8ffd53ad58e4%22%7d\n– – – – – – – –\n\nKostenlose Anmeldung\n\n\n  \n\n\n\n\n Anrede*\n– Bitte auswählen –FrauHerr\n \n Vorname*\n\n \nNachname*\n\n \nE-Mail*\n\n \nFür weitere Infos und telefonische Beratung\, geben Sie hier Ihre Telefonnummer an:\n\n \nIch stimme der Datenschutzerklärung zu.*\nDie Studienberatung darf mich über weitere Angebote informieren*\n \n*Pflichtfeld\n \n\n\n\n\n\n \nBitte beweise\, dass du kein Spambot bist und wähle das Symbol Flagge.\n    \n    \n        \n    \n \n\n ×
URL:https://www.dhgs-hochschule.de/veranstaltungen/webinar-training-und-coaching-im-fussball-26-februar-2026-ab-16-uhr/
CATEGORIES:Bachelor,Training und Coaching im Fußball,Webinar
END:VEVENT
BEGIN:VEVENT
DTSTART;TZID=Europe/Berlin:20260226T170000
DTEND;TZID=Europe/Berlin:20260226T180000
DTSTAMP:20260425T205840
CREATED:20250901T075846Z
LAST-MODIFIED:20251125T110845Z
UID:284325-1772125200-1772128800@www.dhgs-hochschule.de
SUMMARY:Webinar - Life Coaching
DESCRIPTION:Sei dabei\, bei unserem Webinar zum Bachelorstudium Life-Coaching (B.Sc.)!\nAm Donnerstag\, den 26. Februar 2026\, findet unser Webinar zum Bachelorstudiengang Life Coaching (B.Sc.) statt.\nHast du Interesse\, mehr über unser Bachelorstudium Life-Coaching zu erfahren? \nIn unserem Webinar teilt Prof. Dr. Sven Sohr\, unser Experte auf diesem Gebiet\, umfassende Einblicke in die Inhalte\, Schwerpunkte und Struktur des Studiums mit dir. Zusätzlich stellen wir dir potenzielle Berufsfelder vor\, um dir einen klaren Überblick über die beruflichen Möglichkeiten nach dem Studium zu verschaffen. \nWenn du Fragen zur Zulassung hast\, steht dir unser Mitarbeiter der Studierendenkanzlei\, Jonathan Schmidt\, gerne zur Verfügung. Nutze diese Gelegenheit\, um alle notwendigen Informationen für deine Entscheidung und einen erfolgreichen Start in dein Bachelorstudium Life-Coaching zu erhalten. \nTermin:\nDatum: Donnerstag\, 26.02.2026\nUhrzeit: 17:00 – 18:00 Uhr \nPlattform:\nUnsere Webinare finden über Microsoft Teams statt. Du kannst entweder kostenlos über den Browser teilnehmen oder die App kostenfrei herunterladen. \nWir freuen uns darauf\, dich bei unserem Webinar zu begrüßen und dich bestmöglich auf deinem Weg an die DHGS zu unterstützen! \n– – – – Bitte den Online-Link zwischen den gestrichelten Linien einfügen – – – –\n \n\n– – – – – – – –\n– – – – Bitte den Link zwischen den gestrichelten Linien einfügen – – – –\nhttps://teams.microsoft.com/l/meetup-join/19%3ameeting_M2VmY2NmODAtYzc4My00YmM0LTg4ZTgtNmJmNWFlZDMzNzZk%40thread.v2/0?context=%7b%22Tid%22%3a%22240f487f-9038-4806-bfda-6a617ee5da14%22%2c%22Oid%22%3a%2240e4ac14-c8d0-4845-b408-8ffd53ad58e4%22%7d\n– – – – – – – –\n\nKostenlose Anmeldung\n\n\n  \n\n\n\n\n Anrede*\n– Bitte auswählen –FrauHerr\n \n Vorname*\n\n \nNachname*\n\n \nE-Mail*\n\n \nFür weitere Infos und telefonische Beratung\, geben Sie hier Ihre Telefonnummer an:\n\n \nIch stimme der Datenschutzerklärung zu.*\nDie Studienberatung darf mich über weitere Angebote informieren*\n \n*Pflichtfeld\n \n\n\n\n\n\n \nBitte beweise\, dass du kein Spambot bist und wähle das Symbol Tasse.\n    \n    \n        \n    \n \n\n ×
URL:https://www.dhgs-hochschule.de/veranstaltungen/webinar-life-coaching-26-februar-2025-ab-17-uhr/
CATEGORIES:Bachelor,Life Coaching,Webinar
END:VEVENT
BEGIN:VEVENT
DTSTART;TZID=Europe/Berlin:20260226T170000
DTEND;TZID=Europe/Berlin:20260226T180000
DTSTAMP:20260425T205840
CREATED:20250901T113308Z
LAST-MODIFIED:20251125T110852Z
UID:284412-1772125200-1772128800@www.dhgs-hochschule.de
SUMMARY:Webinar - Studiengänge Sport und angewandte Trainingswissenschaften (B.A.) und Angewandte Sportwissenschaft (M.A.)
DESCRIPTION:Sei bei unserem Webinar zu unseren Studiengängen Sport und angewandte Trainingswissenschaften (B.A.) und Angewandte Sportwissenschaft (M.A.) dabei!\nAm Donnerstag\, den 26. Februar 2026\, findet unser Webinar zu den Studiengängen Sport und angewandte Trainingswissenschaften (B.A.) und Angewandte Sportwissenschaft (M.A.) statt.\nInteressierst du dich für unsere Sportstudiengänge? \nIn unserem Webinar teilt Herr Prof. Dr. Christoph Clephas\, unser Fachexperte auf diesem Gebiet\, umfassende Einblicke in die Inhalte\, Schwerpunkte und den Studienaufbau der Studiengänge mit dir. Zusätzlich präsentieren wir dir potenzielle Berufsfelder\, um dir einen klaren Überblick über die beruflichen Möglichkeiten nach dem Studium zu verschaffen. \nWenn du Fragen zur Zulassung hast\, steht dir unser engagierter Mitarbeiter in der Studierendenkanzlei\, David Fischer\, gerne zur Verfügung. Nutze diese Gelegenheit\, um alle notwendigen Informationen für deine Entscheidung und einen erfolgreichen Start in dein Sportstudium zu erhalten. \nTermin:\nDatum: Donnerstag\, 26.02.2026\nUhrzeit: 17:00 – 18:00 Uhr \nPlattform:\nUnsere Webinare finden über Microsoft Teams statt. Du kannst entweder kostenlos über den Browser teilnehmen oder die App kostenfrei herunterladen. \nWir freuen uns darauf\, dich bei unserem Webinar zu begrüßen und dich bestmöglich auf deinem Weg an die DHGS zu unterstützen! \n\n– – – – Bitte den Online-Link zwischen den gestrichelten Linien einfügen – – – –\n\n– – – – Bitte den Link zwischen den gestrichelten Linien einfügen – – – –\nhttps://teams.microsoft.com/l/meetup-join/19%3ameeting_ZGZjNjZmYmItZDRjYy00MWJkLTlmMGEtZTI3YmY2NDkzYzJh%40thread.v2/0?context=%7b%22Tid%22%3a%22240f487f-9038-4806-bfda-6a617ee5da14%22%2c%22Oid%22%3a%2240e4ac14-c8d0-4845-b408-8ffd53ad58e4%22%7d\n– – – – – – – –\n\n\nKostenlose Anmeldung: \n\nAnmeldung\n\n\n  \n\n\n\n\n Anrede*\n– Bitte auswählen –FrauHerr\n \n Vorname*\n\n \nNachname*\n\n \nE-Mail*\n\n \nFür weitere Infos und telefonische Beratung\, geben Sie hier Ihre Telefonnummer an:\n\n \nIch stimme der Datenschutzerklärung zu.*\nDie Studienberatung darf mich über weitere Angebote informieren*\n \n*Pflichtfeld\n \n\n\n\n\n\n \nBitte beweise\, dass du kein Spambot bist und wähle das Symbol LKW.\n    \n    \n        \n    \n \n\n ×
URL:https://www.dhgs-hochschule.de/veranstaltungen/webinar-studiengaenge-sport-und-angewandte-trainingswissenschaften-b-a-und-angewandte-sportwissenschaft-m-a-26-februar-2025-ab-17-uhr/
CATEGORIES:Bachelor,Master,Sport und angewandte Trainingswissenschaft,Webinar
END:VEVENT
END:VCALENDAR