BEGIN:VCALENDAR
VERSION:2.0
PRODID:-//DHGS Deutsche Hochschule für Gesundheit und Sport - ECPv6.15.20//NONSGML v1.0//EN
CALSCALE:GREGORIAN
METHOD:PUBLISH
X-WR-CALNAME:DHGS Deutsche Hochschule für Gesundheit und Sport
X-ORIGINAL-URL:https://www.dhgs-hochschule.de
X-WR-CALDESC:Veranstaltungen für DHGS Deutsche Hochschule für Gesundheit und Sport
REFRESH-INTERVAL;VALUE=DURATION:PT1H
X-Robots-Tag:noindex
X-PUBLISHED-TTL:PT1H
BEGIN:VTIMEZONE
TZID:Europe/Berlin
BEGIN:DAYLIGHT
TZOFFSETFROM:+0100
TZOFFSETTO:+0200
TZNAME:CEST
DTSTART:20250330T010000
END:DAYLIGHT
BEGIN:STANDARD
TZOFFSETFROM:+0200
TZOFFSETTO:+0100
TZNAME:CET
DTSTART:20251026T010000
END:STANDARD
BEGIN:DAYLIGHT
TZOFFSETFROM:+0100
TZOFFSETTO:+0200
TZNAME:CEST
DTSTART:20260329T010000
END:DAYLIGHT
BEGIN:STANDARD
TZOFFSETFROM:+0200
TZOFFSETTO:+0100
TZNAME:CET
DTSTART:20261025T010000
END:STANDARD
BEGIN:DAYLIGHT
TZOFFSETFROM:+0100
TZOFFSETTO:+0200
TZNAME:CEST
DTSTART:20270328T010000
END:DAYLIGHT
BEGIN:STANDARD
TZOFFSETFROM:+0200
TZOFFSETTO:+0100
TZNAME:CET
DTSTART:20271031T010000
END:STANDARD
END:VTIMEZONE
BEGIN:VEVENT
DTSTART;TZID=Europe/Berlin:20260824T180000
DTEND;TZID=Europe/Berlin:20260824T190000
DTSTAMP:20260425T204222
CREATED:20260317T105529Z
LAST-MODIFIED:20260317T105529Z
UID:307913-1787594400-1787598000@www.dhgs-hochschule.de
SUMMARY:Webinar - Fitnesstraining & Management
DESCRIPTION:Sei bei unserem Webinar zu unserem Bachelorstudium Fitnesstraining und Management (B.Sc.) dabei!\nAm Montag\, den 24. August 2026\, findet unser Webinar zu unserem Bachelorstudiengang Fitnesstraining und Management (B.Sc.) statt.\nHast du Interesse daran\, mehr über unser Bachelorstudium „Fitnesstraining und Management“ zu erfahren? \nUnser Experte\, Prof. Dr. Ralf Kriegel\, wird dir umfassende Einblicke in die Inhalte\, Schwerpunkte und den Aufbau des Studiums vermitteln. Zusätzlich werden während der Veranstaltung potenzielle Berufsfelder aufgezeigt. \nFür alle Fragen rund um die Zulassung steht dir unsere engagierte Mitarbeiterin der Studierendenkanzlei\, Andrine Müller\, zur Verfügung. Nutze diese Gelegenheit\, um alle notwendigen Informationen für deine Entscheidung und einen erfolgreichen Start in dein Bachelorstudium zu erhalten. \nTermin:\nDatum: Montag\, 24.08.2026\nUhrzeit: 18:00 – 19:00 Uhr \nPlattform:\nUnsere Webinare finden über Microsoft Teams statt. Du kannst entweder kostenlos über den Browser teilnehmen oder die App kostenfrei herunterladen. \n  \nWir freuen uns auf deine Teilnahme! \n– – – – Hier klicken\, um an der Besprechung teilzunehmen – – – –\n \n\n– – – – – – – –\n– – – – Bitte den Link zwischen den gestrichelten Linien einfügen – – – –\nhttps://teams.microsoft.com/meet/33775855866796?p=PZTx3nH9gpCRWF16Ue\n– – – – – – – –\nKostenlose Anmeldung: \n\nAnmeldung\n\n\n  \n\n\n\n\n Anrede*\n– Bitte auswählen –FrauHerr\n \n Vorname*\n\n \nNachname*\n\n \nE-Mail*\n\n \nFür weitere Infos und telefonische Beratung\, geben Sie hier Ihre Telefonnummer an:\n\n \nIch stimme der Datenschutzerklärung zu.*\nDie Studienberatung darf mich über weitere Angebote informieren*\n \n*Pflichtfeld\n \n\n\n\n\n\n \nBitte beweise\, dass du kein Spambot bist und wähle das Symbol Herz.\n    \n    \n        \n    \n \n\n ×
URL:https://www.dhgs-hochschule.de/veranstaltungen/webinar-fitnesstraining-management-2408/
CATEGORIES:Bachelor,Fitnesstraining und Management,Webinar
END:VEVENT
BEGIN:VEVENT
DTSTART;TZID=Europe/Berlin:20260825T170000
DTEND;TZID=Europe/Berlin:20260825T180000
DTSTAMP:20260425T204222
CREATED:20260317T104329Z
LAST-MODIFIED:20260317T104329Z
UID:307899-1787677200-1787680800@www.dhgs-hochschule.de
SUMMARY:Webinar - Soziale Arbeit und Sport & Soziale Arbeit
DESCRIPTION:Sei bei unserem Webinar zum Bachelorstudium Soziale Arbeit und Sport (B.A.) und Soziale Arbeit (B.A) mit dabei!\nAm Dienstag\, den 25. August 2026\, findet unser Webinar zum Bachelorstudiengang Soziale Arbeit und Sport (B.A.) und Soziale Arbeit (B.A) statt.\nHast du Interesse daran\, mehr über unsere Bachelorstudiengänge „Soziale Arbeit und Sport“ sowie „Soziale Arbeit“ zu erfahren? \nIn diesem Webinar teilt unser Experte\, Prof. Dr. Wolfgang Ruf\, umfassende Einblicke in die Inhalte\, Schwerpunkte und den Studienaufbau beider Studiengänge mit dir. Zusätzlich präsentieren wir potenzielle Berufsfelder\, um dir einen klaren Überblick über die beruflichen Möglichkeiten nach dem Studium zu verschaffen. \nFalls du Fragen zur Zulassung hast\, steht dir unser Leiter der Studierendenkanzlei\, Michael Fleddermann\, gerne zur Verfügung. Nutze diese Gelegenheit\, um alle notwendigen Informationen für deine Entscheidung und einen erfolgreichen Start in dein Bachelorstudium zu erhalten. \nTermin:\nDatum: Mittwoch\, 25.08.2026\nUhrzeit: 17:00 – 18:00 Uhr \nPlattform:\nUnsere Webinare finden über Microsoft Teams statt. Du kannst entweder kostenlos über den Browser teilnehmen oder die App kostenfrei herunterladen. \nWir freuen uns darauf\, dich mit umfassenden Informationen zu unterstützen und stehen bereit\, um alle deine Fragen zu beantworten\, um dich bestmöglich auf deinem Weg an die DHGS zu unterstützen! \n– – – – Hier klicken\, um an der Besprechung teilzunehmen – – – –\n \n\n– – – – – – – –\n– – – – Bitte den Link zwischen den gestrichelten Linien einfügen – – – –\nhttps://teams.microsoft.com/meet/38016390167976?p=gkR4pz1iwzQPBoLXVQ\n– – – – – – – –\n\nKostenlose Anmeldung\n\n\n  \n\n\n\n\n Anrede*\n– Bitte auswählen –FrauHerr\n \n Vorname*\n\n \nNachname*\n\n \nE-Mail*\n\n \nFür weitere Infos und telefonische Beratung\, geben Sie hier Ihre Telefonnummer an:\n\n \nIch stimme der Datenschutzerklärung zu.*\nDie Studienberatung darf mich über weitere Angebote informieren*\n \n*Pflichtfeld\n \n\n\n\n\n\n \nBitte beweise\, dass du kein Spambot bist und wähle das Symbol Tasse.\n    \n    \n        \n    \n \n\n ×
URL:https://www.dhgs-hochschule.de/veranstaltungen/webinar-soziale-arbeit-und-sport-2508/
CATEGORIES:Soziale Arbeit,Soziale Arbeit und Sport,Webinar
END:VEVENT
BEGIN:VEVENT
DTSTART;TZID=Europe/Berlin:20260826T160000
DTEND;TZID=Europe/Berlin:20260826T170000
DTSTAMP:20260425T204222
CREATED:20260317T110326Z
LAST-MODIFIED:20260317T110344Z
UID:307933-1787760000-1787763600@www.dhgs-hochschule.de
SUMMARY:Webinar - Training und Coaching im Fußball
DESCRIPTION:Sei bei unserem Webinar zu unserem Studiengang „Training und Coaching im Fußball (B.A.) dabei!\nAm Mittwoch\, den 26. August 2026\, findet unser Webinar zu unserem Studiengang Training und Coaching im Fußball (B.A.) ab 16:00 Uhr statt.\nHast du Interesse daran\, mehr über unseren Studiengang „Training und Coaching im Fußball“ (B.A.) zu erfahren? \nUnser Experte\, Prof. Dr. Christian Buschmann und die Kollegin\, Anja Pfluger\, vom Internationalen Fußball Institut\, werden dir umfassende Einblicke in die Inhalte\, Schwerpunkte und den Aufbau des Studiums vermitteln. Zusätzlich werden während der Veranstaltung potenzielle Berufsfelder aufgezeigt. \nBei Fragen zur Zulassung steht dir unser Leiter der Studierendenkanzlei\, Michael Fleddermann\, gerne zur Verfügung. Nutze diese Gelegenheit\, um alle notwendigen Informationen für deine Entscheidung und einen erfolgreichen Start in diesen speziellen Studienschwerpunkt zu erhalten. \nTermin:\nDatum: Mittwoch\, 26.08.2026\nUhrzeit: 16:00 – 17:00 Uhr \nPlattform:\nUnsere Webinare finden über Microsoft Teams statt. Du kannst entweder kostenlos über den Browser teilnehmen oder die App kostenfrei herunterladen. \nWir freuen uns darauf\, dich mit umfassenden Informationen zu unterstützen und stehen bereit\, um alle deine Fragen zu beantworten\, um dich bestmöglich auf deinem Weg an die DHGS zu unterstützen! \n– – – – Bitte den Online-Link zwischen den gestrichelten Linien einfügen – – – –\n \n\n– – – – – – – –\n– – – – Bitte den Link zwischen den gestrichelten Linien einfügen – – – –\nhttps://teams.microsoft.com/meet/34993246574312?p=Vb7YqHX69x20UHcxmT\n– – – – – – – –\n\nKostenlose Anmeldung\n\n\n  \n\n\n\n\n Anrede*\n– Bitte auswählen –FrauHerr\n \n Vorname*\n\n \nNachname*\n\n \nE-Mail*\n\n \nFür weitere Infos und telefonische Beratung\, geben Sie hier Ihre Telefonnummer an:\n\n \nIch stimme der Datenschutzerklärung zu.*\nDie Studienberatung darf mich über weitere Angebote informieren*\n \n*Pflichtfeld\n \n\n\n\n\n\n \nBitte beweise\, dass du kein Spambot bist und wähle das Symbol Haus.\n    \n    \n        \n    \n \n\n ×
URL:https://www.dhgs-hochschule.de/veranstaltungen/webinar-training-und-coaching-im-fussball-2608/
CATEGORIES:Bachelor,Training und Coaching im Fußball,Webinar
END:VEVENT
BEGIN:VEVENT
DTSTART;TZID=Europe/Berlin:20260826T180000
DTEND;TZID=Europe/Berlin:20260826T190000
DTSTAMP:20260425T204222
CREATED:20260317T083258Z
LAST-MODIFIED:20260317T083258Z
UID:307811-1787767200-1787770800@www.dhgs-hochschule.de
SUMMARY:Webinar - Studieren mit Unternehmenspartner
DESCRIPTION:Studieren mit Unternehmenspartner. Kooperatives Studium an der DHGS – sei bei unserem Webinar dabei!\nAm Mittwoch\, den 26. August 2026\, findet unser Webinar zu den kooperativen Studiengängen an der DHGS statt.\nDu interessierst dich für ein kooperatives Studium an der DHGS Deutsche Hochschule für Gesundheit und Sport? \nUnser Experte\, Elias Fleddermann\, bietet dir detaillierte Einblicke in den Ablauf und die verschiedenen Möglichkeiten eines kooperativen Studiums. Du erfährst die notwendigen Voraussetzungen\, die du für dieses Studienmodell erfüllen musst. Zusätzlich stellen wir dir unser innovatives semi-virtuelles Studienkonzept vor und unterstützen dich bei der Suche nach einem kooperativen Partner. \nDarüber hinaus möchten wir die zahlreichen Vorteile eines kooperativen Studiums aufzeigen und dir Empfehlungen zur wöchentlichen Arbeitszeit im Unternehmen sowie zur bestmöglichen Vereinbarkeit von Studium und Beruf geben. \nTermin:\nDatum: Mittwoch\, 26.08.2026\nUhrzeit: 18:00 – 19:00 Uhr \nPlattform:\nUnsere Webinare finden über Microsoft Teams statt. Du kannst entweder kostenlos über den Browser teilnehmen oder die App kostenfrei herunterladen. \nWir freuen uns darauf\, dich mit umfassenden Informationen zu unterstützen und stehen bereit\, um alle deine Fragen zu beantworten\, um dich bestmöglich auf deinem Weg an die DHGS zu unterstützen! \n– – – – Bitte den Online-Link zwischen den gestrichelten Linien einfügen – – – –\n \n\n– – – – – – – –\n– – – – Bitte den Link zwischen den gestrichelten Linien einfügen – – – –\nhttps://teams.microsoft.com/meet/34339544953258?p=4czQkXA37u7LmjrGZf\n– – – – – – – –\nKostenlose Anmeldung: \n\nAnmeldung\n\n\n  \n\n\n\n\n Anrede*\n– Bitte auswählen –FrauHerr\n \n Vorname*\n\n \nNachname*\n\n \nE-Mail*\n\n \nFür weitere Infos und telefonische Beratung\, geben Sie hier Ihre Telefonnummer an:\n\n \nIch stimme der Datenschutzerklärung zu.*\nDie Studienberatung darf mich über weitere Angebote informieren*\n \n*Pflichtfeld\n \n\n\n\n\n\n \nBitte beweise\, dass du kein Spambot bist und wähle das Symbol Baum.\n    \n    \n        \n    \n \n\n ×
URL:https://www.dhgs-hochschule.de/veranstaltungen/webinar-studieren-mit-unternehmenspartner-2608/
CATEGORIES:Bachelor,Kooperatives Studium,Master,Studieren mit Unternehmenspartner,Veranstaltung,Webinar
END:VEVENT
BEGIN:VEVENT
DTSTART;TZID=Europe/Berlin:20260827T170000
DTEND;TZID=Europe/Berlin:20260827T180000
DTSTAMP:20260425T204222
CREATED:20260317T115756Z
LAST-MODIFIED:20260317T115756Z
UID:307946-1787850000-1787853600@www.dhgs-hochschule.de
SUMMARY:MasterKompass - unser Webinar zu deinem Masterstudium "Medizinpädagogik" an der DHGS
DESCRIPTION:MasterKompass – unser Webinar zu deinem Masterstudium Medizinpädagogik (M.A.) an der DHGS!\nAm Donnerstag\, den 27. August 2026\, findet unser Master Webinar zu unserem Studiengang Medizinpädagogik statt.\nDu möchtest mehr erfahren? \nIn unserem Webinar teilt Herr Prof. Dr. Dr. med. Evangelos Sarantopoulos\, unser Fachexperte auf diesem Gebiet\, umfassende Einblicke in die Inhalte\, Schwerpunkte und den Studienaufbau der Studiengänge mit dir. Zusätzlich präsentieren wir dir potenzielle Berufsfelder\, um dir einen klaren Überblick über die beruflichen Möglichkeiten nach dem Studium zu verschaffen. \nFür Fragen zur Zulassung steht ein Mitarbeiter der Studierendenkanzlei zur Verfügung. Nutze diese Gelegenheit\, um alle notwendigen Informationen für deine Entscheidung und einen erfolgreichen Start in dein Masterstudium zu erhalten. \nTermin:\nDatum: Donnerstag\, 27.08.2026\nUhrzeit: 17:00 – 18:00 Uhr \nPlattform:\nUnsere Webinare finden über Microsoft Teams statt. Du kannst entweder kostenlos über den Browser teilnehmen oder die App hier herunterladen. \nWir freuen uns darauf\, dich mit umfassenden Informationen zu unterstützen und stehen bereit\, um dich bestmöglich auf deinem Weg an die DHGS zu unterstützen! \n– – – – Bitte den Online-Link zwischen den gestrichelten Linien einfügen – – – –\n \n\n– – – – – – – –\n– – – – Bitte den Link zwischen den gestrichelten Linien einfügen – – – –\nhttps://teams.microsoft.com/meet/36221673685211?p=gEgqdL8JZwMZ1a7kXW\n– – – – – – – –\nKostenlose Anmeldung: \n\nAnmeldung\n\n\n  \n\n\n\n\n Anrede*\n– Bitte auswählen –FrauHerr\n \n Vorname*\n\n \nNachname*\n\n \nE-Mail*\n\n \nFür weitere Infos und telefonische Beratung\, geben Sie hier Ihre Telefonnummer an:\n\n \nIch stimme der Datenschutzerklärung zu.*\nDie Studienberatung darf mich über weitere Angebote informieren*\n \n*Pflichtfeld\n \n\n\n\n\n\n \nBitte beweise\, dass du kein Spambot bist und wähle das Symbol Haus.\n    \n    \n        \n    \n \n\n ×
URL:https://www.dhgs-hochschule.de/veranstaltungen/masterkompass-unser-webinar-zu-deinem-masterstudium-medizinpaedagogik-an-der-dhgs-2708/
CATEGORIES:Master,Medizinpädagogik,Webinar
END:VEVENT
BEGIN:VEVENT
DTSTART;TZID=Europe/Berlin:20260901T170000
DTEND;TZID=Europe/Berlin:20260901T180000
DTSTAMP:20260425T204222
CREATED:20260317T080646Z
LAST-MODIFIED:20260317T080646Z
UID:307807-1788282000-1788285600@www.dhgs-hochschule.de
SUMMARY:Webinar – Last Minute Fragen?
DESCRIPTION:Webinar – Last Minute Fragen? \nAm Dienstag\, den 01. September 2026\, findet unser Webinar „Last Minute Fragen?“ statt.\nDu interessierst dich für ein Studium an der DHGS\, hast aber noch die eine oder andere Frage zum Studium\, zur Zulassung oder ähnlichen Themen\, die du gerne von uns beantwortet haben möchtest? \nUnser Experte und Leiter der Studierendenkanzlei\, Michael Fleddermann und unser Mitarbeiter\, Jonathan Schmidt\, werden dir während der Veranstaltung alle Fragen ausführlich beantworten und dich umfassend informieren. \nTermin:\nDatum: Dienstag\, 01.09.2026\nUhrzeit: 17:00 – 18:00 Uhr \nPlattform:\nUnsere Webinare finden über Microsoft Teams statt. Du kannst entweder kostenlos über den Browser teilnehmen oder die App kostenfrei herunterladen. \nWir freuen uns auf deine Teilnahme! \n– – – – Bitte den Online-Link zwischen den gestrichelten Linien einfügen – – – –\n \n\n– – – – – – – –\n– – – – Bitte den Link zwischen den gestrichelten Linien einfügen – – – –\nhttps://teams.microsoft.com/meet/32539508279331?p=6Tw9M5JJhdTDcmKmqS\n– – – – – – – –\n\nKostenlose Anmeldung\n\n\n  \n\n\n\n\n Anrede*\n– Bitte auswählen –FrauHerr\n \n Vorname*\n\n \nNachname*\n\n \nE-Mail*\n\n \nFür weitere Infos und telefonische Beratung\, geben Sie hier Ihre Telefonnummer an:\n\n \nIch stimme der Datenschutzerklärung zu.*\nDie Studienberatung darf mich über weitere Angebote informieren*\n \n*Pflichtfeld\n \n\n\n\n\n\n \nBitte beweise\, dass du kein Spambot bist und wähle das Symbol LKW.\n    \n    \n        \n    \n \n\n ×
URL:https://www.dhgs-hochschule.de/veranstaltungen/webinar-last-minute-fragen-0109/
CATEGORIES:Bachelor,Last Minute,Master,Veranstaltung,Webinar
END:VEVENT
BEGIN:VEVENT
DTSTART;VALUE=DATE:20260910
DTEND;VALUE=DATE:20260911
DTSTAMP:20260425T204222
CREATED:20251020T103600Z
LAST-MODIFIED:20251020T103827Z
UID:291636-1788998400-1789084799@www.dhgs-hochschule.de
SUMMARY:Anerkennungsprüfung Gesundheitsstudiengänge | 10. September 2026
DESCRIPTION:Anerkennungsprüfung für die Studiengänge Medizinpädagogik (B.A.) und Physician Assistance (B.Sc.)\nAm Donnerstag\, den 10. September 2026\, findet unsere Anerkennungsprüfung statt.\nMöchtest Du ein Studium in einem unserer Gesundheitsstudiengänge? Dann kannst Du Dich zur kostenlosen und unverbindlichen Anerkennungsprüfung anmelden. Ein erfolgreiches Bestehen ist Voraussetzung für die Anrechnung Deiner Berufsausbildung auf ein verkürztes Studium an unserer Hochschule. \nWann?\nDonnerstag\, 10.09.2026 \nWo?\nAn Deinem bevorzugten Studienort Berlin\, Ismaning\, Unna oder Mannheim \nSolltest Du an diesem Tag keine Zeit haben\, können wir auch gerne einen persönlichen Termin vereinbaren. \nFür Fragen zur Zulassung und/oder zum Inhalt kannst Du Dich an unser Info-Center wenden. \n\nBitte melde Dich vorab zur Teilnahme an unserer Anerkennungsprüfung an\, damit wir Dir Informationen zum Ablauf der Prüfung geben können. Schreibe uns dazu einfach eine E-Mail oder rufe an (bitte Studiengang und Campus angeben): \n\nTelefon: +49 (0) 30 577 9737 800 \nE-Mail: info-center@dhgs-hochschule.de
URL:https://www.dhgs-hochschule.de/veranstaltungen/anerkennungspruefung-gesundheitsstudiengaenge-10-september-2026/
LOCATION:Vorort
CATEGORIES:Anerkennungsprüfung,Berlin,Ismaning,Mannheim,Unna,Veranstaltung
ATTACH;FMTTYPE=image/jpeg:https://www.dhgs-hochschule.de/wp-content/uploads/2022/10/221026-DHGS-Veranstaltung-Seminar-Anerkennungspruefung-1920x1080-1.jpg
END:VEVENT
BEGIN:VEVENT
DTSTART;VALUE=DATE:20261008
DTEND;VALUE=DATE:20261009
DTSTAMP:20260425T204222
CREATED:20251020T103856Z
LAST-MODIFIED:20251020T104030Z
UID:291645-1791417600-1791503999@www.dhgs-hochschule.de
SUMMARY:Anerkennungsprüfung Gesundheitsstudiengänge | 08. Oktober 2026
DESCRIPTION:Anerkennungsprüfung für die Studiengänge Medizinpädagogik (B.A.) und Physician Assistance (B.Sc.)\nAm Donnerstag\, den 08. Oktober 2026\, findet unsere Anerkennungsprüfung statt.\nMöchtest Du ein Studium in einem unserer Gesundheitsstudiengänge? Dann kannst Du Dich zur kostenlosen und unverbindlichen Anerkennungsprüfung anmelden. Ein erfolgreiches Bestehen ist Voraussetzung für die Anrechnung Deiner Berufsausbildung auf ein verkürztes Studium an unserer Hochschule. \nWann?\nDonnerstag\, 08.10.2026 \nWo?\nAn Deinem bevorzugten Studienort Berlin\, Ismaning\, Unna oder Mannheim \nSolltest Du an diesem Tag keine Zeit haben\, können wir auch gerne einen persönlichen Termin vereinbaren. \nFür Fragen zur Zulassung und/oder zum Inhalt kannst Du Dich an unser Info-Center wenden. \n\nBitte melde Dich vorab zur Teilnahme an unserer Anerkennungsprüfung an\, damit wir Dir Informationen zum Ablauf der Prüfung geben können. Schreibe uns dazu einfach eine E-Mail oder rufe an (bitte Studiengang und Campus angeben): \n\nTelefon: +49 (0) 30 577 9737 800 \nE-Mail: info-center@dhgs-hochschule.de
URL:https://www.dhgs-hochschule.de/veranstaltungen/anerkennungspruefung-gesundheitsstudiengaenge-08-oktober-2026/
LOCATION:Vorort
CATEGORIES:Anerkennungsprüfung,Berlin,Ismaning,Mannheim,Unna,Veranstaltung
ATTACH;FMTTYPE=image/jpeg:https://www.dhgs-hochschule.de/wp-content/uploads/2022/10/221026-DHGS-Veranstaltung-Seminar-Anerkennungspruefung-1920x1080-1.jpg
END:VEVENT
BEGIN:VEVENT
DTSTART;VALUE=DATE:20261112
DTEND;VALUE=DATE:20261113
DTSTAMP:20260425T204222
CREATED:20251020T104041Z
LAST-MODIFIED:20251020T104139Z
UID:291650-1794441600-1794527999@www.dhgs-hochschule.de
SUMMARY:Anerkennungsprüfung Gesundheitsstudiengänge | 12. November 2026
DESCRIPTION:Anerkennungsprüfung für die Studiengänge Medizinpädagogik (B.A.) und Physician Assistance (B.Sc.)\nAm Donnerstag\, den 12. November 2026\, findet unsere Anerkennungsprüfung statt.\nMöchtest Du ein Studium in einem unserer Gesundheitsstudiengänge? Dann kannst Du Dich zur kostenlosen und unverbindlichen Anerkennungsprüfung anmelden. Ein erfolgreiches Bestehen ist Voraussetzung für die Anrechnung Deiner Berufsausbildung auf ein verkürztes Studium an unserer Hochschule. \nWann?\nDonnerstag\, 12.11.2026 \nWo?\nAn Deinem bevorzugten Studienort Berlin\, Ismaning\, Unna oder Mannheim \nSolltest Du an diesem Tag keine Zeit haben\, können wir auch gerne einen persönlichen Termin vereinbaren. \nFür Fragen zur Zulassung und/oder zum Inhalt kannst Du Dich an unser Info-Center wenden. \n\nBitte melde Dich vorab zur Teilnahme an unserer Anerkennungsprüfung an\, damit wir Dir Informationen zum Ablauf der Prüfung geben können. Schreibe uns dazu einfach eine E-Mail oder rufe an (bitte Studiengang und Campus angeben): \n\nTelefon: +49 (0) 30 577 9737 800 \nE-Mail: info-center@dhgs-hochschule.de
URL:https://www.dhgs-hochschule.de/veranstaltungen/anerkennungspruefung-gesundheitsstudiengaenge-12-november-2026/
LOCATION:Vorort
CATEGORIES:Anerkennungsprüfung,Berlin,Ismaning,Mannheim,Unna,Veranstaltung
ATTACH;FMTTYPE=image/jpeg:https://www.dhgs-hochschule.de/wp-content/uploads/2022/10/221026-DHGS-Veranstaltung-Seminar-Anerkennungspruefung-1920x1080-1.jpg
END:VEVENT
BEGIN:VEVENT
DTSTART;VALUE=DATE:20261120
DTEND;VALUE=DATE:20261122
DTSTAMP:20260425T204222
CREATED:20260323T074628Z
LAST-MODIFIED:20260323T074628Z
UID:308528-1795132800-1795305599@www.dhgs-hochschule.de
SUMMARY:Messe: Besuche uns auf der Einstieg in München!
DESCRIPTION:Erlebe die DHGS auf der Einstieg in München!\nInteressierst Du Dich für ein Studium\, das Praxisnähe und Flexibilität vereint? Dann ist ein Besuch an unserem Stand auf der Einstieg in München die perfekte Gelegenheit für Dich! Tauche ein in die Welt der DHGS und informiere Dich umfassend über Deine Studienmöglichkeiten\, unser semi-virtuelles Studienkonzept und alles\, was Du für einen gelungenen Start ins Studium wissen musst. \nDas erwartet dich an unserem Messestand: \n\nEinblicke in die Hochschule und unsere Lehrenden\nLerne die DHGS als Deine potenzielle Hochschule und das engagierte Team unserer Professoren und Dozenten kennen. Sie teilen ihre Erfahrungen und geben Dir wertvolle Einblicke in die Inhalte und Besonderheiten unserer Studiengänge.\nDetaillierte Informationen zu unserem semi-virtuellen Studienmodell\nErfahre\, wie das kooperative Studieren an der DHGS funktioniert. Wir kombinieren praxisnahe Inhalte mit flexiblen Online-Elementen\, sodass Du Dein Studium optimal mit Deinen persönlichen und beruflichen Zielen vereinen kannst.\nIndividuelle und kostenfreie Beratung\nUnser Team nimmt sich Zeit für Dich und beantwortet alle Deine Fragen. Egal\, ob Du wissen möchtest\, welcher Studiengang am besten zu Dir passt oder wie sich Dein Studienalltag gestalten könnte – wir sind für Dich da!\nAntworten auf all deine Fragen\nDu hast die Möglichkeit\, in entspannter Atmosphäre Deine individuellen Fragen zu stellen und die Informationen zu erhalten\, die Du für Deine Entscheidung brauchst.\n\nTermin:\nFreitag\, 20.11.2026\n09:00 – 15:00 Uhr\nund\nSamstag\, 21.11.2026\n10:00 – 15:00 Uhr \nAdresse:\nMOC – Event Center Messe München\nLilienthalallee 40\n80939 München
URL:https://www.dhgs-hochschule.de/veranstaltungen/messe-besuche-uns-auf-der-einstieg-in-muenchen/
CATEGORIES:Bachelor,Master
END:VEVENT
BEGIN:VEVENT
DTSTART;VALUE=DATE:20261202
DTEND;VALUE=DATE:20261205
DTSTAMP:20260425T204222
CREATED:20260323T075255Z
LAST-MODIFIED:20260323T075255Z
UID:308530-1796169600-1796428799@www.dhgs-hochschule.de
SUMMARY:Messe: Besuche uns auf der BeSt in Innsbruck!
DESCRIPTION:Erlebe die DHGS auf der BeSt in Innsbruck!\nInteressierst Du Dich für ein Studium\, das Praxisnähe und Flexibilität vereint? Dann ist ein Besuch an unserem Stand auf der BeSt in Innsbruck die perfekte Gelegenheit für Dich! Tauche ein in die Welt der DHGS und informiere Dich umfassend über Deine Studienmöglichkeiten\, unser semi-virtuelles Studienkonzept und alles\, was Du für einen gelungenen Start ins Studium wissen musst. \nDas erwartet dich an unserem Messestand: \n\nEinblicke in die Hochschule und unsere Lehrenden\nLerne die DHGS als Deine potenzielle Hochschule und das engagierte Team unserer Professoren und Dozenten kennen. Sie teilen ihre Erfahrungen und geben Dir wertvolle Einblicke in die Inhalte und Besonderheiten unserer Studiengänge.\nDetaillierte Informationen zu unserem semi-virtuellen Studienmodell\nErfahre\, wie das kooperative Studieren an der DHGS funktioniert. Wir kombinieren praxisnahe Inhalte mit flexiblen Online-Elementen\, sodass Du Dein Studium optimal mit Deinen persönlichen und beruflichen Zielen vereinen kannst.\nIndividuelle und kostenfreie Beratung\nUnser Team nimmt sich Zeit für Dich und beantwortet alle Deine Fragen. Egal\, ob Du wissen möchtest\, welcher Studiengang am besten zu Dir passt oder wie sich Dein Studienalltag gestalten könnte – wir sind für Dich da!\nAntworten auf all deine Fragen\nDu hast die Möglichkeit\, in entspannter Atmosphäre Deine individuellen Fragen zu stellen und die Informationen zu erhalten\, die Du für Deine Entscheidung brauchst.\n\nTermin:\nMittwoch\, 02.12.2026\n09:00 – 17:00 Uhr\nund\nDonnerstag\, 03.12.2026\n09:00 – 17:00 Uhr\nund\nFreitag\, 04.12.2026\n09:00 – 17:00 Uhr \nAdresse:\nMesse Innsbruck\nIng.-Etzel-Straße 31\n6020 Innsbruck (Österreich)
URL:https://www.dhgs-hochschule.de/veranstaltungen/messe-besuche-uns-auf-der-best-in-innsbruck/
CATEGORIES:Bachelor,Master
END:VEVENT
BEGIN:VEVENT
DTSTART;VALUE=DATE:20261210
DTEND;VALUE=DATE:20261211
DTSTAMP:20260425T204222
CREATED:20251020T104151Z
LAST-MODIFIED:20251020T104245Z
UID:291652-1796860800-1796947199@www.dhgs-hochschule.de
SUMMARY:Anerkennungsprüfung Gesundheitsstudiengänge | 10. Dezember 2026
DESCRIPTION:Anerkennungsprüfung für die Studiengänge Medizinpädagogik (B.A.) und Physician Assistance (B.Sc.)\nAm Donnerstag\, den 10. Dezember 2026\, findet unsere Anerkennungsprüfung statt.\nMöchtest Du ein Studium in einem unserer Gesundheitsstudiengänge? Dann kannst Du Dich zur kostenlosen und unverbindlichen Anerkennungsprüfung anmelden. Ein erfolgreiches Bestehen ist Voraussetzung für die Anrechnung Deiner Berufsausbildung auf ein verkürztes Studium an unserer Hochschule. \nWann?\nDonnerstag\, 10.12.2026 \nWo?\nAn Deinem bevorzugten Studienort Berlin\, Ismaning\, Unna oder Mannheim \nSolltest Du an diesem Tag keine Zeit haben\, können wir auch gerne einen persönlichen Termin vereinbaren. \nFür Fragen zur Zulassung und/oder zum Inhalt kannst Du Dich an unser Info-Center wenden. \n\nBitte melde Dich vorab zur Teilnahme an unserer Anerkennungsprüfung an\, damit wir Dir Informationen zum Ablauf der Prüfung geben können. Schreibe uns dazu einfach eine E-Mail oder rufe an (bitte Studiengang und Campus angeben): \n\nTelefon: +49 (0) 30 577 9737 800 \nE-Mail: info-center@dhgs-hochschule.de
URL:https://www.dhgs-hochschule.de/veranstaltungen/anerkennungspruefung-gesundheitsstudiengaenge-12-november-2026-copy/
LOCATION:Vorort
CATEGORIES:Anerkennungsprüfung,Berlin,Ismaning,Mannheim,Unna,Veranstaltung
ATTACH;FMTTYPE=image/jpeg:https://www.dhgs-hochschule.de/wp-content/uploads/2022/10/221026-DHGS-Veranstaltung-Seminar-Anerkennungspruefung-1920x1080-1.jpg
END:VEVENT
END:VCALENDAR