BEGIN:VCALENDAR
VERSION:2.0
PRODID:-//DHGS Deutsche Hochschule für Gesundheit und Sport - ECPv6.15.20//NONSGML v1.0//EN
CALSCALE:GREGORIAN
METHOD:PUBLISH
X-WR-CALNAME:DHGS Deutsche Hochschule für Gesundheit und Sport
X-ORIGINAL-URL:https://www.dhgs-hochschule.de
X-WR-CALDESC:Veranstaltungen für DHGS Deutsche Hochschule für Gesundheit und Sport
REFRESH-INTERVAL;VALUE=DURATION:PT1H
X-Robots-Tag:noindex
X-PUBLISHED-TTL:PT1H
BEGIN:VTIMEZONE
TZID:Europe/Berlin
BEGIN:DAYLIGHT
TZOFFSETFROM:+0100
TZOFFSETTO:+0200
TZNAME:CEST
DTSTART:20250330T010000
END:DAYLIGHT
BEGIN:STANDARD
TZOFFSETFROM:+0200
TZOFFSETTO:+0100
TZNAME:CET
DTSTART:20251026T010000
END:STANDARD
BEGIN:DAYLIGHT
TZOFFSETFROM:+0100
TZOFFSETTO:+0200
TZNAME:CEST
DTSTART:20260329T010000
END:DAYLIGHT
BEGIN:STANDARD
TZOFFSETFROM:+0200
TZOFFSETTO:+0100
TZNAME:CET
DTSTART:20261025T010000
END:STANDARD
BEGIN:DAYLIGHT
TZOFFSETFROM:+0100
TZOFFSETTO:+0200
TZNAME:CEST
DTSTART:20270328T010000
END:DAYLIGHT
BEGIN:STANDARD
TZOFFSETFROM:+0200
TZOFFSETTO:+0100
TZNAME:CET
DTSTART:20271031T010000
END:STANDARD
END:VTIMEZONE
BEGIN:VEVENT
DTSTART;TZID=Europe/Berlin:20260505T170000
DTEND;TZID=Europe/Berlin:20260505T180000
DTSTAMP:20260425T191831
CREATED:20260317T104041Z
LAST-MODIFIED:20260317T104041Z
UID:307900-1778000400-1778004000@www.dhgs-hochschule.de
SUMMARY:Webinar - Soziale Arbeit und Sport & Soziale Arbeit
DESCRIPTION:Sei bei unserem Webinar zum Bachelorstudium Soziale Arbeit und Sport (B.A.) und Soziale Arbeit (B.A) mit dabei!\nAm Dienstag\, den 05. Mai 2026\, findet unser Webinar zum Bachelorstudiengang Soziale Arbeit und Sport (B.A.) und Soziale Arbeit (B.A) statt.\nHast du Interesse daran\, mehr über unsere Bachelorstudiengänge „Soziale Arbeit und Sport“ sowie „Soziale Arbeit“ zu erfahren? \nIn diesem Webinar teilt unser Studiengangleitung\, Prof. Dr. Nina Proufas\, umfassende Einblicke in die Inhalte\, Schwerpunkte und den Studienaufbau beider Studiengänge mit dir. Zusätzlich präsentieren wir potenzielle Berufsfelder\, um dir einen klaren Überblick über die beruflichen Möglichkeiten nach dem Studium zu verschaffen. \nFalls du Fragen zur Zulassung hast\, steht dir unser Leiter der Studierendenkanzlei\, Michael Fleddermann\, gerne zur Verfügung. Nutze diese Gelegenheit\, um alle notwendigen Informationen für deine Entscheidung und einen erfolgreichen Start in dein Bachelorstudium zu erhalten. \nTermin:\nDatum: Dienstag\, 05.05.2026\nUhrzeit: 17:00 – 18:00 Uhr \nPlattform:\nUnsere Webinare finden über Microsoft Teams statt. Du kannst entweder kostenlos über den Browser teilnehmen oder die App kostenfrei herunterladen. \nWir freuen uns darauf\, dich mit umfassenden Informationen zu unterstützen und stehen bereit\, um alle deine Fragen zu beantworten\, um dich bestmöglich auf deinem Weg an die DHGS zu unterstützen! \n– – – – Hier klicken\, um an der Besprechung teilzunehmen – – – –\n \n\n– – – – – – – –\n– – – – Bitte den Link zwischen den gestrichelten Linien einfügen – – – –\nhttps://teams.microsoft.com/meet/39747635559517?p=whD27LDTm6cHbrqzMa\n– – – – – – – –\n\nKostenlose Anmeldung\n\n\n  \n\n\n\n\n Anrede*\n– Bitte auswählen –FrauHerr\n \n Vorname*\n\n \nNachname*\n\n \nE-Mail*\n\n \nFür weitere Infos und telefonische Beratung\, geben Sie hier Ihre Telefonnummer an:\n\n \nIch stimme der Datenschutzerklärung zu.*\nDie Studienberatung darf mich über weitere Angebote informieren*\n \n*Pflichtfeld\n \n\n\n\n\n\n \nBitte beweise\, dass du kein Spambot bist und wähle das Symbol Baum.\n    \n    \n        \n    \n \n\n ×
URL:https://www.dhgs-hochschule.de/veranstaltungen/webinar-soziale-arbeit-und-sport-0505/
CATEGORIES:Soziale Arbeit,Soziale Arbeit und Sport,Webinar
END:VEVENT
BEGIN:VEVENT
DTSTART;VALUE=DATE:20260506
DTEND;VALUE=DATE:20260508
DTSTAMP:20260425T191831
CREATED:20260323T070700Z
LAST-MODIFIED:20260323T070700Z
UID:308512-1778025600-1778198399@www.dhgs-hochschule.de
SUMMARY:Messe: Besuche uns auf der Vocatium in München!
DESCRIPTION:Erlebe die DHGS auf der Vocatium in München!\nInteressierst Du Dich für ein Studium\, das Praxisnähe und Flexibilität vereint? Dann ist ein Besuch an unserem Stand auf der Vocatium in München die perfekte Gelegenheit für Dich! Tauche ein in die Welt der DHGS und informiere Dich umfassend über Deine Studienmöglichkeiten\, unser semi-virtuelles Studienkonzept und alles\, was Du für einen gelungenen Start ins Studium wissen musst. \nDas erwartet dich an unserem Messestand: \n\nEinblicke in die Hochschule und unsere Lehrenden\nLerne die DHGS als Deine potenzielle Hochschule und das engagierte Team unserer Professoren und Dozenten kennen. Sie teilen ihre Erfahrungen und geben Dir wertvolle Einblicke in die Inhalte und Besonderheiten unserer Studiengänge.\nDetaillierte Informationen zu unserem semi-virtuellen Studienmodell\nErfahre\, wie das kooperative Studieren an der DHGS funktioniert. Wir kombinieren praxisnahe Inhalte mit flexiblen Online-Elementen\, sodass Du Dein Studium optimal mit Deinen persönlichen und beruflichen Zielen vereinen kannst.\nIndividuelle und kostenfreie Beratung\nUnser Team nimmt sich Zeit für Dich und beantwortet alle Deine Fragen. Egal\, ob Du wissen möchtest\, welcher Studiengang am besten zu Dir passt oder wie sich Dein Studienalltag gestalten könnte – wir sind für Dich da!\nAntworten auf all deine Fragen\nDu hast die Möglichkeit\, in entspannter Atmosphäre Deine individuellen Fragen zu stellen und die Informationen zu erhalten\, die Du für Deine Entscheidung brauchst.\n\nTermin:\nMittwoch\, 06.05.2026\n08:30 – 14:45 Uhr\nund\nDonnerstag\, 07.05.2026\n08:30 – 14:45 Uhr \nAdresse:\nMTC München\nTaunusstraße 45\n80807 München
URL:https://www.dhgs-hochschule.de/veranstaltungen/messe-besuche-uns-auf-der-vocatium-in-muenchen/
CATEGORIES:Bachelor,Master
END:VEVENT
BEGIN:VEVENT
DTSTART;VALUE=DATE:20260507
DTEND;VALUE=DATE:20260508
DTSTAMP:20260425T191831
CREATED:20251020T102622Z
LAST-MODIFIED:20251020T102859Z
UID:291619-1778112000-1778198399@www.dhgs-hochschule.de
SUMMARY:Anerkennungsprüfung Gesundheitsstudiengänge | 07. Mai 2026
DESCRIPTION:Anerkennungsprüfung für die Studiengänge Medizinpädagogik (B.A.) und Physician Assistance (B.Sc.)\nAm Donnerstag\, den 07. Mai 2026\, findet unsere Anerkennungsprüfung statt.\nMöchtest Du ein Studium in einem unserer Gesundheitsstudiengänge? Dann kannst Du Dich zur kostenlosen und unverbindlichen Anerkennungsprüfung anmelden. Ein erfolgreiches Bestehen ist Voraussetzung für die Anrechnung Deiner Berufsausbildung auf ein verkürztes Studium an unserer Hochschule. \nWann?\nDonnerstag\, 07.05.2026 \nWo?\nAn Deinem bevorzugten Studienort Berlin\, Ismaning\, Unna oder Mannheim \nSolltest Du an diesem Tag keine Zeit haben\, können wir auch gerne einen persönlichen Termin vereinbaren. \nFür Fragen zur Zulassung und/oder zum Inhalt kannst Du Dich an unser Info-Center wenden. \n\nBitte melde Dich vorab zur Teilnahme an unserer Anerkennungsprüfung an\, damit wir Dir Informationen zum Ablauf der Prüfung geben können. Schreibe uns dazu einfach eine E-Mail oder rufe an (bitte Studiengang und Campus angeben): \n\nTelefon: +49 (0) 30 577 9737 800 \nE-Mail: info-center@dhgs-hochschule.de
URL:https://www.dhgs-hochschule.de/veranstaltungen/anerkennungspruefung-gesundheitsstudiengaenge-07-mai-2026/
LOCATION:Vorort
CATEGORIES:Anerkennungsprüfung,Berlin,Ismaning,Mannheim,Unna,Veranstaltung
ATTACH;FMTTYPE=image/jpeg:https://www.dhgs-hochschule.de/wp-content/uploads/2022/10/221026-DHGS-Veranstaltung-Seminar-Anerkennungspruefung-1920x1080-1.jpg
END:VEVENT
BEGIN:VEVENT
DTSTART;TZID=Europe/Berlin:20260507T170000
DTEND;TZID=Europe/Berlin:20260507T180000
DTSTAMP:20260425T191831
CREATED:20260317T090345Z
LAST-MODIFIED:20260317T090345Z
UID:307839-1778173200-1778176800@www.dhgs-hochschule.de
SUMMARY:Webinar - Sport und Bewegungstherapie und Sport und Schmerztherapie
DESCRIPTION:Sei bei unserem Webinar zu unseren Studiengängen Sport und Bewegungstherapie (B.Sc.) und Sport und Schmerztherapie (M.Sc.) dabei!\nAm Donnerstag\, den 07. Mai 2026\, findet unser Webinar zu den Studiengängen Sport und Bewegungstherapie (B.Sc.) und Sport und Schmerztherapie (M.Sc.) statt.\nMöchtest du tiefer in unsere Sportstudiengänge eintauchen? \nDann bist du hier genau richtig! Unser Experte\, Herr Prof. Dr. rer. nat. Konstantin Beinert\, wird dir alles Wissenswerte über die Inhalte\, Schwerpunkte und den Studienaufbau unserer Sportstudiengänge vermitteln. Zusätzlich werden potenzielle Berufsfelder vorgestellt\, um dir einen umfassenden Einblick in die vielfältigen Perspektiven nach dem Studium zu geben. \nWenn du Fragen zur Zulassung hast\, steht dir unsere engagiertere Mitarbeiterin\, Andrine Müller\, von der Studierendenkanzlei zur Verfügung. Nutze diese Gelegenheit\, um alle Informationen zu erhalten\, die du für deine Entscheidung und den erfolgreichen Start in dein Sportstudium benötigst. \nTermin:\nDatum: Donnerstag\, 07.05.2026\nUhrzeit: 17:00 – 18:00 Uhr \nPlattform:\nUnsere Webinare finden über Microsoft Teams statt. Du kannst entweder kostenlos über den Browser teilnehmen oder die App kostenfrei herunterladen. \nWir freuen uns darauf\, dich bei unserer virtuellen Info-Veranstaltung zu begrüßen und dich bestmöglich auf deinem Weg an die DHGS zu unterstützen! \n– – – – Bitte den Online-Link zwischen den gestrichelten Linien einfügen – – – –\n \n\n– – – – – – – –\n– – – – Bitte den Link zwischen den gestrichelten Linien einfügen – – – –\nhttps://teams.microsoft.com/meet/38966863594647?p=8xNonApmgN9e6Wkv0q\n– – – – – – – –\n\nKostenlose Anmeldung\n\n\n  \n\n\n\n\n Anrede*\n– Bitte auswählen –FrauHerr\n \n Vorname*\n\n \nNachname*\n\n \nE-Mail*\n\n \nFür weitere Infos und telefonische Beratung\, geben Sie hier Ihre Telefonnummer an:\n\n \nIch stimme der Datenschutzerklärung zu.*\nDie Studienberatung darf mich über weitere Angebote informieren*\n \n*Pflichtfeld\n \n\n\n\n\n\n \nBitte beweise\, dass du kein Spambot bist und wähle das Symbol Baum.\n    \n    \n        \n    \n \n\n ×
URL:https://www.dhgs-hochschule.de/veranstaltungen/webinar-sport-und-bewegungstherapie-und-sport-und-schmerztherapie-0705/
CATEGORIES:Bachelor,Master,Sport- und Bewegungstherapie,Sport- und Schmerztherapie,Webinar
END:VEVENT
BEGIN:VEVENT
DTSTART;VALUE=DATE:20260512
DTEND;VALUE=DATE:20260514
DTSTAMP:20260425T191831
CREATED:20260323T071138Z
LAST-MODIFIED:20260323T071138Z
UID:308514-1778544000-1778716799@www.dhgs-hochschule.de
SUMMARY:Messe: Besuche uns auf der Vocatium Rhein-Neckar-Pfalz in Mannheim!
DESCRIPTION:Erlebe die DHGS auf der Vocatium Rhein-Neckar-Pfalz in Mannheim!\nInteressierst Du Dich für ein Studium\, das Praxisnähe und Flexibilität vereint? Dann ist ein Besuch an unserem Stand auf der Vocatium Rhein-Neckar-Pfalz in Mannheim die perfekte Gelegenheit für Dich! Tauche ein in die Welt der DHGS und informiere Dich umfassend über Deine Studienmöglichkeiten\, unser semi-virtuelles Studienkonzept und alles\, was Du für einen gelungenen Start ins Studium wissen musst. \nDas erwartet dich an unserem Messestand: \n\nEinblicke in die Hochschule und unsere Lehrenden\nLerne die DHGS als Deine potenzielle Hochschule und das engagierte Team unserer Professoren und Dozenten kennen. Sie teilen ihre Erfahrungen und geben Dir wertvolle Einblicke in die Inhalte und Besonderheiten unserer Studiengänge.\nDetaillierte Informationen zu unserem semi-virtuellen Studienmodell\nErfahre\, wie das kooperative Studieren an der DHGS funktioniert. Wir kombinieren praxisnahe Inhalte mit flexiblen Online-Elementen\, sodass Du Dein Studium optimal mit Deinen persönlichen und beruflichen Zielen vereinen kannst.\nIndividuelle und kostenfreie Beratung\nUnser Team nimmt sich Zeit für Dich und beantwortet alle Deine Fragen. Egal\, ob Du wissen möchtest\, welcher Studiengang am besten zu Dir passt oder wie sich Dein Studienalltag gestalten könnte – wir sind für Dich da!\nAntworten auf all deine Fragen\nDu hast die Möglichkeit\, in entspannter Atmosphäre Deine individuellen Fragen zu stellen und die Informationen zu erhalten\, die Du für Deine Entscheidung brauchst.\n\nTermin:\nDienstag\, 12.05.2026\n08:30 – 14:45 Uhr\nund\nMittwoch\, 13.05.2026\n08:30 – 14:45 Uhr \nAdresse:\nSAP Arena\nAn der Arena 1\n68163 Mannheim
URL:https://www.dhgs-hochschule.de/veranstaltungen/messe-besuche-uns-auf-der-vocatium-rhein-neckar-pfalz-in-mannheim/
CATEGORIES:Bachelor,Master
END:VEVENT
BEGIN:VEVENT
DTSTART;TZID=Europe/Berlin:20260513T160000
DTEND;TZID=Europe/Berlin:20260513T170000
DTSTAMP:20260425T191831
CREATED:20260317T110018Z
LAST-MODIFIED:20260317T110018Z
UID:307934-1778688000-1778691600@www.dhgs-hochschule.de
SUMMARY:Webinar - Training und Coaching im Fußball
DESCRIPTION:Sei bei unserem Webinar zu unserem Studiengang „Training und Coaching im Fußball (B.A.) dabei!\nAm Mittwoch\, den 13. Mai 2026\, findet unser Webinar zu unserem Studiengang Training und Coaching im Fußball (B.A.) ab 16:00 Uhr statt.\nHast du Interesse daran\, mehr über unseren Studiengang „Training und Coaching im Fußball“ (B.A.) zu erfahren? \nUnser Experte\, Prof. Dr. Christian Buschmann und die Kollegin\, Anja Pfluger\, vom Internationalen Fußball Institut\, werden dir umfassende Einblicke in die Inhalte\, Schwerpunkte und den Aufbau des Studiums vermitteln. Zusätzlich werden während der Veranstaltung potenzielle Berufsfelder aufgezeigt. \nBei Fragen zur Zulassung steht dir unser Leiter der Studierendenkanzlei\, Michael Fleddermann\, gerne zur Verfügung. Nutze diese Gelegenheit\, um alle notwendigen Informationen für deine Entscheidung und einen erfolgreichen Start in diesen speziellen Studienschwerpunkt zu erhalten. \nTermin:\nDatum: Mittwoch\, 13.05.2026\nUhrzeit: 16:00 – 17:00 Uhr \nPlattform:\nUnsere Webinare finden über Microsoft Teams statt. Du kannst entweder kostenlos über den Browser teilnehmen oder die App kostenfrei herunterladen. \nWir freuen uns darauf\, dich mit umfassenden Informationen zu unterstützen und stehen bereit\, um alle deine Fragen zu beantworten\, um dich bestmöglich auf deinem Weg an die DHGS zu unterstützen! \n– – – – Bitte den Online-Link zwischen den gestrichelten Linien einfügen – – – –\n \n\n– – – – – – – –\n– – – – Bitte den Link zwischen den gestrichelten Linien einfügen – – – –\nhttps://teams.microsoft.com/meet/3105290085934?p=JjFb8ZxR6ilk1G4FSO\n– – – – – – – –\n\nKostenlose Anmeldung\n\n\n  \n\n\n\n\n Anrede*\n– Bitte auswählen –FrauHerr\n \n Vorname*\n\n \nNachname*\n\n \nE-Mail*\n\n \nFür weitere Infos und telefonische Beratung\, geben Sie hier Ihre Telefonnummer an:\n\n \nIch stimme der Datenschutzerklärung zu.*\nDie Studienberatung darf mich über weitere Angebote informieren*\n \n*Pflichtfeld\n \n\n\n\n\n\n \nBitte beweise\, dass du kein Spambot bist und wähle das Symbol Haus.\n    \n    \n        \n    \n \n\n ×
URL:https://www.dhgs-hochschule.de/veranstaltungen/webinar-training-und-coaching-im-fussball-1305/
CATEGORIES:Bachelor,Training und Coaching im Fußball,Webinar
END:VEVENT
BEGIN:VEVENT
DTSTART;TZID=Europe/Berlin:20260513T170000
DTEND;TZID=Europe/Berlin:20260513T180000
DTSTAMP:20260425T191831
CREATED:20260317T091220Z
LAST-MODIFIED:20260317T091220Z
UID:307846-1778691600-1778695200@www.dhgs-hochschule.de
SUMMARY:Webinar - Physiotherapiestudium
DESCRIPTION:Sei dabei bei unserem Webinar zum Bachelorstudium Physiotherapie (B.Sc.) !\nAm Mittwoch\, den 13. Mai 2026\, findet unser Webinar zum Bachelorstudiengang Physiotherapie (B.Sc.) statt.\nBist du neugierig auf unseren Physiotherapie-Studiengang? \nIn unserem Webinar teilt Prof. Dr. rer. nat. Konstantin Beinert\, unser Experte\, umfassende Einblicke in die Inhalte\, Schwerpunkte und Struktur des Studiengangs mit dir. Zudem werfen wir einen Blick auf potenzielle Berufsfelder\, um dir eine klare Perspektive nach dem Studium zu vermitteln. \nFalls du Fragen zur Zulassung hast\, steht dir unsere engagierte Kollegin\, Iga Wendlandt\, der Studierendenkanzlei gerne zur Verfügung. Nutze die Gelegenheit\, um alle nötigen Informationen für deine Entscheidung und einen reibungslosen Start in dein Physiotherapie-Studium zu erhalten. \nTermin:\nDatum: Mittwoch\, 13.05.2026\nUhrzeit: 17:00 – 18:00 Uhr \nPlattform:\nUnsere Webinare finden über Microsoft Teams statt. Du kannst entweder kostenlos über den Browser teilnehmen oder die App kostenfrei herunterladen. \nWir freuen uns darauf\, dich mit fundierten Informationen zu versorgen und alle deine Fragen zu beantworten\, um dich bestmöglich auf deinem Weg an die DHGS zu unterstützen! \n– – – – Bitte den Online-Link zwischen den gestrichelten Linien einfügen – – – –\n \n\n– – – – – – – –\n– – – – Bitte den Link zwischen den gestrichelten Linien einfügen – – – –\nhttps://teams.microsoft.com/meet/3727171307378?p=aHgavlUvQoQqZJwSeL\n– – – – – – – –\n\nKostenlose Anmeldung\n\n\n  \n\n\n\n\n Anrede*\n– Bitte auswählen –FrauHerr\n \n Vorname*\n\n \nNachname*\n\n \nE-Mail*\n\n \nFür weitere Infos und telefonische Beratung\, geben Sie hier Ihre Telefonnummer an:\n\n \nIch stimme der Datenschutzerklärung zu.*\nDie Studienberatung darf mich über weitere Angebote informieren*\n \n*Pflichtfeld\n \n\n\n\n\n\n \nBitte beweise\, dass du kein Spambot bist und wähle das Symbol Auto.\n    \n    \n        \n    \n \n\n ×
URL:https://www.dhgs-hochschule.de/veranstaltungen/webinar-physiotherapiestudium-1305/
CATEGORIES:Bachelor,Physiotherapie,Webinar
END:VEVENT
BEGIN:VEVENT
DTSTART;TZID=Europe/Berlin:20260518T170000
DTEND;TZID=Europe/Berlin:20260518T180000
DTSTAMP:20260425T191831
CREATED:20260317T083902Z
LAST-MODIFIED:20260326T071731Z
UID:307830-1779123600-1779127200@www.dhgs-hochschule.de
SUMMARY:Instagram Live Q&A
DESCRIPTION:Instagram Live Q&A: Alles über das Studium an der DHGS!\nDu möchtest tiefer in die Welt des Studiums an der DHGS eintauchen?\nDann verpasse nicht unser Instagram Live Q&A am 18. Mai 2026\, bei dem unser Leiter der Studierendenkanzlei\, Michael Fleddermann\, ab 17:00 Uhr live vor der Kamera steht\, um all deine Fragen rund um den Studienstart zu beantworten. \nTauche ein und erhalte umfassende Einblicke in das semi-virtuelle Konzept\, erfahre alles über die Studieninhalte und erkunde mögliche Berufsfelder während und nach dem Studium. Wir freuen uns darauf\, mit dir in diesem interaktiven Format in den Austausch zu gehen und dir alle Informationen zu geben\, die du für deinen Studienstart an der DHGS benötigst. \nTermin:\nDatum: Montag\, 18.05.2026\nUhrzeit: 17:00 – 18:00 Uhr \nPlattform:\n \nNimm auf Instagram (@dhgs_hochschule) teil. Wenn du unserem Profil folgst\, erhältst du automatisch eine Benachrichtigung\, sobald das Live Q&A startet. \nSei dabei und stell live deine Fragen – wir freuen uns auf dich!
URL:https://www.dhgs-hochschule.de/veranstaltungen/instagram-live-qa-1805/
CATEGORIES:Bachelor,Master
END:VEVENT
BEGIN:VEVENT
DTSTART;TZID=Europe/Berlin:20260520T170000
DTEND;TZID=Europe/Berlin:20260520T183000
DTSTAMP:20260425T191831
CREATED:20260326T145301Z
LAST-MODIFIED:20260326T145301Z
UID:308853-1779296400-1779301800@www.dhgs-hochschule.de
SUMMARY:Webinar - Gesundheitsfachberufe Studiengänge
DESCRIPTION:Sei bei unserem Webinar zu unseren Studiengängen der Gesundheitsfachberufe dabei!\nAm Mittwoch\, den 20. Mai 2026\, findet unser Webinar zu den Studiengängen Medizinpädagogik (B.A. & M.A.) sowie Physician Assistance (B.Sc.) statt.\nHast du Interesse daran\, mehr über unsere Studiengänge im Fachbereich Gesundheit erfahren? \nUnsere Experten\, Frau Dr. Sabine Fesel\, Herr Prof. Dr. Dr. med. Evangelos Sarantopoulos und Herr Prof. Dr. Nikolai Spranger werden dir umfassende Einblicke in die Inhalte\, Schwerpunkte und den Aufbau des Studiums vermitteln. Zudem erfährst du\, wie du durch eine abgeschlossene Berufsausbildung deine Studiendauer verkürzen und Studiengebühren sparen kannst! \nFür Fragen zur Zulassung steht dir unsere engagierte Mitarbeiterin Iga Wendlandt zur Verfügung. Nutze diese Gelegenheit\, um alle notwendigen Informationen für deine Entscheidung und einen erfolgreichen Start in diese speziellen Studienschwerpunkte zu erhalten. \nTermin:\nDatum: Mittwoch\, 20.05.2026\nUhrzeit: 17:00 – 18:30 Uhr \nPlattform:\nUnsere Webinare finden über Microsoft Teams statt. Du kannst entweder kostenlos über den Browser teilnehmen oder die App kostenfrei herunterladen. \nWir freuen uns darauf\, dich mit fundierten Informationen zu versorgen und alle deine Fragen zu beantworten\, um dich bestmöglich auf deinem Weg an die DHGS zu unterstützen! \n– – – – Bitte den Online-Link zwischen den gestrichelten Linien einfügen – – – –\n \n\n– – – – – – – –\n– – – – Bitte den Link zwischen den gestrichelten Linien einfügen – – – –\nhttps://teams.microsoft.com/meet/38179243326791?p=Tg17o6ITpygtWuYV3J\n– – – – – – – –\nKostenlose Anmeldung: \n\nAnmeldung\n\n\n  \n\n\n\n\n Anrede*\n– Bitte auswählen –FrauHerr\n \n Vorname*\n\n \nNachname*\n\n \nE-Mail*\n\n \nFür weitere Infos und telefonische Beratung\, geben Sie hier Ihre Telefonnummer an:\n\n \nIch stimme der Datenschutzerklärung zu.*\nDie Studienberatung darf mich über weitere Angebote informieren*\n \n*Pflichtfeld\n \n\n\n\n\n\n \nBitte beweise\, dass du kein Spambot bist und wähle das Symbol Baum.\n    \n    \n        \n    \n \n\n ×
URL:https://www.dhgs-hochschule.de/veranstaltungen/webinar-gesundheitsfachberufe-studiengaenge-2005/
END:VEVENT
END:VCALENDAR